BEGIN:VCALENDAR
VERSION:2.0
PRODID:-//wp-events-plugin.com//7.2.3.1//EN
BEGIN:VEVENT
UID:409@16ruedeplaisance.org
DTSTART;TZID=Europe/Paris:20250214T103000
DTEND;TZID=Europe/Paris:20250214T163000
DTSTAMP:20241116T102741Z
URL:https://www.16ruedeplaisance.org/evenements/benoit-sicat-avant-premier
 es-pluie-festival-jeune-public/
SUMMARY:Benoît Sicat - Avant-Premières Pluie ? Festival Jeune Public
DESCRIPTION:
ATTACH;FMTTYPE=image/jpeg:https://www.16ruedeplaisance.org/wp-content/uplo
 ads/2023/11/PLUIE-14-copie.jpg
CATEGORIES:Benoit Sicat
LOCATION:Espace Saâd Abssi\, 16 rue Julien Mocquart\, Gennevilliers\, Fran
 ce
GEO:48.923746;2.291623
X-APPLE-STRUCTURED-LOCATION;VALUE=URI;X-ADDRESS=16 rue Julien Mocquart\, Ge
 nnevilliers\, France;X-APPLE-RADIUS=100;X-TITLE=Espace Saâd Abssi:geo:48.
 923746,2.291623
END:VEVENT
BEGIN:VTIMEZONE
TZID:Europe/Paris
X-LIC-LOCATION:Europe/Paris
BEGIN:STANDARD
DTSTART:20241027T020000
TZOFFSETFROM:+0200
TZOFFSETTO:+0100
TZNAME:CET
END:STANDARD
END:VTIMEZONE
END:VCALENDAR