BEGIN:VCALENDAR
VERSION:2.0
PRODID:-//wp-events-plugin.com//7.2.3.1//EN
BEGIN:VEVENT
UID:412@16ruedeplaisance.org
DTSTART;TZID=Europe/Paris;VALUE=DATE:20250202
DTEND;TZID=Europe/Paris;VALUE=DATE:20250207
DTSTAMP:20241120T141036Z
URL:https://www.16ruedeplaisance.org/evenements/benoit-sicat-le-jardin-du-
 possible/
SUMMARY:Benoît Sicat - Le jardin du possible
DESCRIPTION:
ATTACH;FMTTYPE=image/jpeg:https://www.16ruedeplaisance.org/wp-content/uplo
 ads/2018/04/le-jardin-du-possible-dominique-verite.jpg
CATEGORIES:Benoit Sicat
LOCATION:Centre culturel Athena\, place du golhorez\, Auray\, 56\, France
GEO:47.66649100000001;-2.9837669999999434
X-APPLE-STRUCTURED-LOCATION;VALUE=URI;X-ADDRESS=place du golhorez\, Auray\,
  56\, France;X-APPLE-RADIUS=100;X-TITLE=Centre culturel Athena:geo:47.6664
 9100000001,-2.9837669999999434
END:VEVENT
BEGIN:VTIMEZONE
TZID:Europe/Paris
X-LIC-LOCATION:Europe/Paris
BEGIN:STANDARD
DTSTART:20241027T020000
TZOFFSETFROM:+0200
TZOFFSETTO:+0100
TZNAME:CET
END:STANDARD
END:VTIMEZONE
END:VCALENDAR