BEGIN:VCALENDAR
VERSION:2.0
PRODID:-//wp-events-plugin.com//7.2.3.1//EN
BEGIN:VEVENT
UID:415@16ruedeplaisance.org
DTSTART;TZID=Europe/Paris;VALUE=DATE:20250424
DTEND;TZID=Europe/Paris;VALUE=DATE:20250427
DTSTAMP:20241120T142940Z
URL:https://www.16ruedeplaisance.org/evenements/benoit-sicat-le-son-de-la-
 seve/
SUMMARY:Benoît Sicat - Le son de la sève
DESCRIPTION:
ATTACH;FMTTYPE=image/jpeg:https://www.16ruedeplaisance.org/wp-content/uplo
 ads/2015/09/LSDLSduo-credit-Benoit-Sicat-Copier.jpg
CATEGORIES:Benoit Sicat
LOCATION:Artothèque Pierre Tal Coat\, 15 rue Gabriel Péri\, Hennebont\, F
 rance
GEO:47.808365;-3.275329
X-APPLE-STRUCTURED-LOCATION;VALUE=URI;X-ADDRESS=15 rue Gabriel Péri\, Henn
 ebont\, France;X-APPLE-RADIUS=100;X-TITLE=Artothèque Pierre Tal Coat:geo:
 47.808365,-3.275329
END:VEVENT
BEGIN:VTIMEZONE
TZID:Europe/Paris
X-LIC-LOCATION:Europe/Paris
BEGIN:DAYLIGHT
DTSTART:20250330T030000
TZOFFSETFROM:+0100
TZOFFSETTO:+0200
TZNAME:CEST
END:DAYLIGHT
END:VTIMEZONE
END:VCALENDAR