BEGIN:VCALENDAR
VERSION:2.0
PRODID:-//wp-events-plugin.com//7.2.3.1//EN
BEGIN:VEVENT
UID:399@16ruedeplaisance.org
DTSTART;TZID=Europe/Paris;VALUE=DATE:20240914
DTEND;TZID=Europe/Paris;VALUE=DATE:20240915
DTSTAMP:20240827T131717Z
URL:https://www.16ruedeplaisance.org/evenements/benoit-sicat-lecho-deole/
SUMMARY:Benoît Sicat - L'Echo d'Eole
DESCRIPTION:Dans le cadre de la fête de la parentalité\, L'Echo d'Eole se
 ra exceptionnellement joué par Nicolas Camus.
ATTACH;FMTTYPE=image/jpeg:https://www.16ruedeplaisance.org/wp-content/uplo
 ads/2021/06/LECHOdEOLE©Elodie-Guignard-2.jpg
CATEGORIES:Benoit Sicat
LOCATION:Parc de Maurepas\, 16 bd Raymond Poincaré\, Rennes\, 35700\, Fran
 ce
GEO:48.122062;-1.653908
X-APPLE-STRUCTURED-LOCATION;VALUE=URI;X-ADDRESS=16 bd Raymond Poincaré\, R
 ennes\, 35700\, France;X-APPLE-RADIUS=100;X-TITLE=Parc de Maurepas:geo:48.
 122062,-1.653908
END:VEVENT
BEGIN:VTIMEZONE
TZID:Europe/Paris
X-LIC-LOCATION:Europe/Paris
BEGIN:DAYLIGHT
DTSTART:20240331T030000
TZOFFSETFROM:+0100
TZOFFSETTO:+0200
TZNAME:CEST
END:DAYLIGHT
END:VTIMEZONE
END:VCALENDAR