BEGIN:VCALENDAR
VERSION:2.0
PRODID:-//wp-events-plugin.com//7.2.3.1//EN
BEGIN:VEVENT
UID:416@16ruedeplaisance.org
DTSTART;TZID=Europe/Paris:20250513T091500
DTEND;TZID=Europe/Paris:20250514T150000
DTSTAMP:20241120T143728Z
URL:https://www.16ruedeplaisance.org/evenements/benoit-sicat-pluie-3/
SUMMARY:Benoît Sicat - Pluie ?
DESCRIPTION:
ATTACH;FMTTYPE=image/jpeg:https://www.16ruedeplaisance.org/wp-content/uplo
 ads/2024/11/Pluie-0028-copie.jpeg
CATEGORIES:Benoit Sicat
LOCATION:L'Entre-Deux scène de Lésigny\, Avenue des Hyverneaux\, Lésigny
 \, 77150\, France
GEO:48.733243;2.603899
X-APPLE-STRUCTURED-LOCATION;VALUE=URI;X-ADDRESS=Avenue des Hyverneaux\, Lé
 signy\, 77150\, France;X-APPLE-RADIUS=100;X-TITLE=L'Entre-Deux scène de L
 ésigny:geo:48.733243,2.603899
END:VEVENT
BEGIN:VTIMEZONE
TZID:Europe/Paris
X-LIC-LOCATION:Europe/Paris
BEGIN:DAYLIGHT
DTSTART:20250330T030000
TZOFFSETFROM:+0100
TZOFFSETTO:+0200
TZNAME:CEST
END:DAYLIGHT
END:VTIMEZONE
END:VCALENDAR