BEGIN:VCALENDAR
VERSION:2.0
PRODID:-//wp-events-plugin.com//7.2.3.1//EN
BEGIN:VEVENT
UID:417@16ruedeplaisance.org
DTSTART;TZID=Europe/Paris;VALUE=DATE:20250515
DTEND;TZID=Europe/Paris;VALUE=DATE:20250529
DTSTAMP:20241120T144048Z
URL:https://www.16ruedeplaisance.org/evenements/benoit-sicat-pluie-4/
SUMMARY:Benoît Sicat - Pluie ?
DESCRIPTION:
ATTACH;FMTTYPE=image/jpeg:https://www.16ruedeplaisance.org/wp-content/uplo
 ads/2024/11/Pluie-scénopersonnage.jpg
CATEGORIES:Benoit Sicat
LOCATION:Ville de Saint-Germain-en-Laye\, dans les crèches\, Saint-Germain
 -en-Laye\, France
GEO:48.899971;2.088513
X-APPLE-STRUCTURED-LOCATION;VALUE=URI;X-ADDRESS=dans les crèches\, Saint-G
 ermain-en-Laye\, France;X-APPLE-RADIUS=100;X-TITLE=Ville de Saint-Germain-
 en-Laye:geo:48.899971,2.088513
END:VEVENT
BEGIN:VTIMEZONE
TZID:Europe/Paris
X-LIC-LOCATION:Europe/Paris
BEGIN:DAYLIGHT
DTSTART:20250330T030000
TZOFFSETFROM:+0100
TZOFFSETTO:+0200
TZNAME:CEST
END:DAYLIGHT
END:VTIMEZONE
END:VCALENDAR