BEGIN:VCALENDAR
VERSION:2.0
PRODID:-//wp-events-plugin.com//7.2.3.1//EN
BEGIN:VEVENT
UID:418@16ruedeplaisance.org
DTSTART;TZID=Europe/Paris;VALUE=DATE:20250601
DTEND;TZID=Europe/Paris;VALUE=DATE:20250604
DTSTAMP:20250407T091852Z
URL:https://www.16ruedeplaisance.org/evenements/benoit-sicat-pluie-5/
SUMMARY:Benoît Sicat - Pluie ?
DESCRIPTION:
ATTACH;FMTTYPE=image/jpeg:https://www.16ruedeplaisance.org/wp-content/uplo
 ads/2024/11/Pluie-EXT-02.jpeg
CATEGORIES:Benoit Sicat
LOCATION:Square Jean Mermoz\, 46 boulevard Charles de Gaulle\, Sannois\, 95
 110\, France
GEO:48.971799;2.258171
X-APPLE-STRUCTURED-LOCATION;VALUE=URI;X-ADDRESS=46 boulevard Charles de Gau
 lle\, Sannois\, 95110\, France;X-APPLE-RADIUS=100;X-TITLE=Square Jean Merm
 oz:geo:48.971799,2.258171
END:VEVENT
BEGIN:VTIMEZONE
TZID:Europe/Paris
X-LIC-LOCATION:Europe/Paris
BEGIN:DAYLIGHT
DTSTART:20250330T030000
TZOFFSETFROM:+0100
TZOFFSETTO:+0200
TZNAME:CEST
END:DAYLIGHT
END:VTIMEZONE
END:VCALENDAR