BEGIN:VCALENDAR
VERSION:2.0
PRODID:-//wp-events-plugin.com//7.2.3.1//EN
BEGIN:VEVENT
UID:472@16ruedeplaisance.org
DTSTART;TZID=Europe/Paris:20250608T103000
DTEND;TZID=Europe/Paris:20250608T160000
DTSTAMP:20250703T160804Z
URL:https://www.16ruedeplaisance.org/evenements/benoit-sicat-pluie-6/
SUMMARY:Benoît Sicat - Pluie ? Dans le cadre du festival Un Neuf Trois Sol
 eil!
DESCRIPTION:
ATTACH;FMTTYPE=image/jpeg:https://www.16ruedeplaisance.org/wp-content/uplo
 ads/2024/11/DSC_0020.jpg
CATEGORIES:Benoit Sicat
LOCATION:FESTIVAL Un Neuf Trois Soleil! Parc Anne de Kiev\, Avenue Descarte
 s\, Le Blanc Mesnil\, France
GEO:48.950272;2.453098
X-APPLE-STRUCTURED-LOCATION;VALUE=URI;X-ADDRESS=Avenue Descartes\, Le Blanc
  Mesnil\, France;X-APPLE-RADIUS=100;X-TITLE=FESTIVAL Un Neuf Trois Soleil!
  Parc Anne de Kiev:geo:48.950272,2.453098
END:VEVENT
BEGIN:VTIMEZONE
TZID:Europe/Paris
X-LIC-LOCATION:Europe/Paris
BEGIN:DAYLIGHT
DTSTART:20250330T030000
TZOFFSETFROM:+0100
TZOFFSETTO:+0200
TZNAME:CEST
END:DAYLIGHT
END:VTIMEZONE
END:VCALENDAR