BEGIN:VCALENDAR
VERSION:2.0
PRODID:-//wp-events-plugin.com//7.2.3.1//EN
BEGIN:VEVENT
UID:424@16ruedeplaisance.org
DTSTART;TZID=Europe/Paris:20251008T093000
DTEND;TZID=Europe/Paris:20251009T153000
DTSTAMP:20250703T154451Z
URL:https://www.16ruedeplaisance.org/evenements/benoit-sicat-pluie-au-fest
 ival-un-neuf-trois-soleil-2/
SUMMARY:Benoît Sicat - Pluie ?
DESCRIPTION:
ATTACH;FMTTYPE=image/jpeg:https://www.16ruedeplaisance.org/wp-content/uplo
 ads/2024/11/DSC_0020.jpg
CATEGORIES:Benoit Sicat
LOCATION:Centre Socioculturel des Marnaudes-Bois-Perrier\, 5 rue Jacques Of
 fenbach\, Rosny-sous-Bois\, France
GEO:48.881994;2.484179
X-APPLE-STRUCTURED-LOCATION;VALUE=URI;X-ADDRESS=5 rue Jacques Offenbach\, R
 osny-sous-Bois\, France;X-APPLE-RADIUS=100;X-TITLE=Centre Socioculturel de
 s Marnaudes-Bois-Perrier:geo:48.881994,2.484179
END:VEVENT
BEGIN:VTIMEZONE
TZID:Europe/Paris
X-LIC-LOCATION:Europe/Paris
BEGIN:DAYLIGHT
DTSTART:20250330T030000
TZOFFSETFROM:+0100
TZOFFSETTO:+0200
TZNAME:CEST
END:DAYLIGHT
END:VTIMEZONE
END:VCALENDAR