BEGIN:VCALENDAR
VERSION:2.0
PRODID:-//wp-events-plugin.com//7.2.3.1//EN
BEGIN:VEVENT
UID:422@16ruedeplaisance.org
DTSTART;TZID=Europe/Paris:20250606T093000
DTEND;TZID=Europe/Paris:20250607T113000
DTSTAMP:20250703T161100Z
URL:https://www.16ruedeplaisance.org/evenements/benoit-sicat-pluie-au-fest
 ival-un-neuf-trois-soleil-3/
SUMMARY:Benoît Sicat - Pluie ? au festival Un Neuf Trois Soleil!
DESCRIPTION:
ATTACH;FMTTYPE=image/jpeg:https://www.16ruedeplaisance.org/wp-content/uplo
 ads/2024/11/DSC_0020.jpg
CATEGORIES:Benoit Sicat
LOCATION:FESTIVAL Un Neuf Trois Soleil! Maison Pour Tous Youri Gagarine\, 5
 6 rue Anatole France\, La Courneuve\, France
GEO:48.921415;2.403997
X-APPLE-STRUCTURED-LOCATION;VALUE=URI;X-ADDRESS=56 rue Anatole France\, La 
 Courneuve\, France;X-APPLE-RADIUS=100;X-TITLE=FESTIVAL Un Neuf Trois Solei
 l! Maison Pour Tous Youri Gagarine:geo:48.921415,2.403997
END:VEVENT
BEGIN:VTIMEZONE
TZID:Europe/Paris
X-LIC-LOCATION:Europe/Paris
BEGIN:DAYLIGHT
DTSTART:20250330T030000
TZOFFSETFROM:+0100
TZOFFSETTO:+0200
TZNAME:CEST
END:DAYLIGHT
END:VTIMEZONE
END:VCALENDAR