BEGIN:VCALENDAR
VERSION:2.0
PRODID:-//wp-events-plugin.com//7.2.3.1//EN
BEGIN:VEVENT
UID:425@16ruedeplaisance.org
DTSTART;TZID=Europe/Paris;VALUE=DATE:20250609
DTEND;TZID=Europe/Paris;VALUE=DATE:20250611
DTSTAMP:20250703T160423Z
URL:https://www.16ruedeplaisance.org/evenements/benoit-sicat-pluie-au-fest
 ival-un-neuf-trois-soleil-4/
SUMMARY:Benoît Sicat - Pluie ? au festival Un Neuf Trois Soleil!
DESCRIPTION:
ATTACH;FMTTYPE=image/jpeg:https://www.16ruedeplaisance.org/wp-content/uplo
 ads/2024/11/DSC_0020.jpg
CATEGORIES:Benoit Sicat
LOCATION:FESTIVAL Un Neuf TRois Soleil! Parc du Sausset\, Avenue Raoul Dufy
 \, Aulnay-sous-Bois\, France
GEO:48.959871;2.502379
X-APPLE-STRUCTURED-LOCATION;VALUE=URI;X-ADDRESS=Avenue Raoul Dufy\, Aulnay-
 sous-Bois\, France;X-APPLE-RADIUS=100;X-TITLE=FESTIVAL Un Neuf TRois Solei
 l! Parc du Sausset:geo:48.959871,2.502379
END:VEVENT
BEGIN:VTIMEZONE
TZID:Europe/Paris
X-LIC-LOCATION:Europe/Paris
BEGIN:DAYLIGHT
DTSTART:20250330T030000
TZOFFSETFROM:+0100
TZOFFSETTO:+0200
TZNAME:CEST
END:DAYLIGHT
END:VTIMEZONE
END:VCALENDAR