BEGIN:VCALENDAR
VERSION:2.0
PRODID:-//wp-events-plugin.com//7.2.3.1//EN
BEGIN:VEVENT
UID:474@16ruedeplaisance.org
DTSTART;TZID=Europe/Paris:20251019T093000
DTEND;TZID=Europe/Paris:20251019T120000
DTSTAMP:20250703T155941Z
URL:https://www.16ruedeplaisance.org/evenements/benoit-sicat-pluie-festiva
 l-marmaille/
SUMMARY:Benoît Sicat - Pluie ? Festival MARMAILLE
DESCRIPTION:
ATTACH;FMTTYPE=image/jpeg:https://www.16ruedeplaisance.org/wp-content/uplo
 ads/2024/11/DSC_0020.jpg
CATEGORIES:Benoit Sicat
LOCATION:Théâtre Lillico\, salle Guy Ropartz\, 14 rue Guy Ropartz\, Renne
 s\, France
GEO:48.129657;-1.656136
X-APPLE-STRUCTURED-LOCATION;VALUE=URI;X-ADDRESS=14 rue Guy Ropartz\, Rennes
 \, France;X-APPLE-RADIUS=100;X-TITLE=Théâtre Lillico\, salle Guy Ropartz
 :geo:48.129657,-1.656136
END:VEVENT
BEGIN:VTIMEZONE
TZID:Europe/Paris
X-LIC-LOCATION:Europe/Paris
BEGIN:DAYLIGHT
DTSTART:20250330T030000
TZOFFSETFROM:+0100
TZOFFSETTO:+0200
TZNAME:CEST
END:DAYLIGHT
END:VTIMEZONE
END:VCALENDAR