BEGIN:VCALENDAR
VERSION:2.0
PRODID:-//wp-events-plugin.com//7.2.3.1//EN
BEGIN:VEVENT
UID:408@16ruedeplaisance.org
DTSTART;TZID=Europe/Paris:20241212T170000
DTEND;TZID=Europe/Paris:20241212T183000
DTSTAMP:20241116T102155Z
URL:https://www.16ruedeplaisance.org/evenements/benoit-sicat-pluie-univers
 ite-dhiver-arts/
SUMMARY:Benoît Sicat - Pluie ? Université d'hiver ARTS
DESCRIPTION:
ATTACH;FMTTYPE=image/jpeg:https://www.16ruedeplaisance.org/wp-content/uplo
 ads/2024/06/Pluie_0031.jpg
CATEGORIES:Benoit Sicat
LOCATION:Université Jean Monnet\, 10 rue Tréfilerie\, Saint Etienne\, Fra
 nce
GEO:45.424836;4.392705
X-APPLE-STRUCTURED-LOCATION;VALUE=URI;X-ADDRESS=10 rue Tréfilerie\, Saint 
 Etienne\, France;X-APPLE-RADIUS=100;X-TITLE=Université Jean Monnet:geo:45
 .424836,4.392705
END:VEVENT
BEGIN:VTIMEZONE
TZID:Europe/Paris
X-LIC-LOCATION:Europe/Paris
BEGIN:STANDARD
DTSTART:20241027T020000
TZOFFSETFROM:+0200
TZOFFSETTO:+0100
TZNAME:CET
END:STANDARD
END:VTIMEZONE
END:VCALENDAR