BEGIN:VCALENDAR
VERSION:2.0
PRODID:-//wp-events-plugin.com//7.2.3.1//EN
BEGIN:VEVENT
UID:394@16ruedeplaisance.org
DTSTART;TZID=Europe/Paris;VALUE=DATE:20240627
DTEND;TZID=Europe/Paris;VALUE=DATE:20240628
DTSTAMP:20240616T085803Z
URL:https://www.16ruedeplaisance.org/evenements/benoit-sicat-pluie/
SUMMARY:Benoît Sicat - sortie de résidence Pluie ?
DESCRIPTION:Sortie de résidence - premiers crèche-tests publics pour la f
 ête de la crèche.
ATTACH;FMTTYPE=image/jpeg:https://www.16ruedeplaisance.org/wp-content/uplo
 ads/2024/06/Pluie_0031.jpg
CATEGORIES:Benoit Sicat
LOCATION:Crèche Louise Bodin\, 2 square de Copenhague\, Rennes\, France
GEO:48.085788;-1.677075
X-APPLE-STRUCTURED-LOCATION;VALUE=URI;X-ADDRESS=2 square de Copenhague\, Re
 nnes\, France;X-APPLE-RADIUS=100;X-TITLE=Crèche Louise Bodin:geo:48.08578
 8,-1.677075
END:VEVENT
BEGIN:VTIMEZONE
TZID:Europe/Paris
X-LIC-LOCATION:Europe/Paris
BEGIN:DAYLIGHT
DTSTART:20240331T030000
TZOFFSETFROM:+0100
TZOFFSETTO:+0200
TZNAME:CEST
END:DAYLIGHT
END:VTIMEZONE
END:VCALENDAR