BEGIN:VCALENDAR
VERSION:2.0
PRODID:-//wp-events-plugin.com//7.2.3.1//EN
BEGIN:VEVENT
UID:467@16ruedeplaisance.org
DTSTART;TZID=Europe/Paris:20250416T093000
DTEND;TZID=Europe/Paris:20250417T160000
DTSTAMP:20250325T170745Z
URL:https://www.16ruedeplaisance.org/evenements/benoit-sicat-racine-carree
 -au-festival-2-turvenhoog/
SUMMARY:Benoît Sicat - Racine Carrée au FESTIVAL 2 TURVENHOOG
DESCRIPTION:
ATTACH;FMTTYPE=image/jpeg:https://www.16ruedeplaisance.org/wp-content/uplo
 ads/2021/12/RacineCarrée-04.jpg
CATEGORIES:Benoit Sicat
LOCATION:Kunstlinie\, Esplanade 10\, Almere\, 1315\, Pays-Bas
GEO:52.367079;5.218826
X-APPLE-STRUCTURED-LOCATION;VALUE=URI;X-ADDRESS=Esplanade 10\, Almere\, 131
 5\, Pays-Bas;X-APPLE-RADIUS=100;X-TITLE=Kunstlinie:geo:52.367079,5.218826
END:VEVENT
BEGIN:VTIMEZONE
TZID:Europe/Paris
X-LIC-LOCATION:Europe/Paris
BEGIN:DAYLIGHT
DTSTART:20250330T030000
TZOFFSETFROM:+0100
TZOFFSETTO:+0200
TZNAME:CEST
END:DAYLIGHT
END:VTIMEZONE
END:VCALENDAR