BEGIN:VCALENDAR
VERSION:2.0
PRODID:-//wp-events-plugin.com//7.2.3.1//EN
BEGIN:VEVENT
UID:475@16ruedeplaisance.org
DTSTART;TZID=Europe/Paris;VALUE=DATE:20250920
DTEND;TZID=Europe/Paris;VALUE=DATE:20250922
DTSTAMP:20250723T090258Z
URL:https://www.16ruedeplaisance.org/evenements/benoit-sicat-racine-carree
 -aux-journees-du-patrimoine/
SUMMARY:Benoît Sicat - Racine Carrée aux Journées du Patrimoine
DESCRIPTION:
ATTACH;FMTTYPE=image/jpeg:https://www.16ruedeplaisance.org/wp-content/uplo
 ads/2025/07/RacineCarreeAlmere.jpg
CATEGORIES:Benoit Sicat
LOCATION:Musée d'Art\, Histoire et Archéologie\, 2 esplanade Anne Baudot\
 , Evreux\, 27000\, France
GEO:49.025582;1.141956
X-APPLE-STRUCTURED-LOCATION;VALUE=URI;X-ADDRESS=2 esplanade Anne Baudot\, E
 vreux\, 27000\, France;X-APPLE-RADIUS=100;X-TITLE=Musée d'Art\, Histoire 
 et Archéologie:geo:49.025582,1.141956
END:VEVENT
BEGIN:VTIMEZONE
TZID:Europe/Paris
X-LIC-LOCATION:Europe/Paris
BEGIN:DAYLIGHT
DTSTART:20250330T030000
TZOFFSETFROM:+0100
TZOFFSETTO:+0200
TZNAME:CEST
END:DAYLIGHT
END:VTIMEZONE
END:VCALENDAR