BEGIN:VCALENDAR
VERSION:2.0
PRODID:-//wp-events-plugin.com//7.2.3.1//EN
BEGIN:VEVENT
UID:407@16ruedeplaisance.org
DTSTART;TZID=Europe/Paris;VALUE=DATE:20250120
DTEND;TZID=Europe/Paris;VALUE=DATE:20250125
DTSTAMP:20241116T101618Z
URL:https://www.16ruedeplaisance.org/evenements/benoit-sicat-residence-plu
 ie-2/
SUMMARY:Benoît Sicat - Résidence Pluie ?
DESCRIPTION:
ATTACH;FMTTYPE=image/jpeg:https://www.16ruedeplaisance.org/wp-content/uplo
 ads/2024/11/Pluie-EXT-02.jpeg
CATEGORIES:Benoit Sicat
LOCATION:Crèche Jean Jaurès\, 110 avenue Jean Jaurès\, La Courneuve\, Fr
 ance
GEO:48.922011;2.407525
X-APPLE-STRUCTURED-LOCATION;VALUE=URI;X-ADDRESS=110 avenue Jean Jaurès\, L
 a Courneuve\, France;X-APPLE-RADIUS=100;X-TITLE=Crèche Jean Jaurès:geo:4
 8.922011,2.407525
END:VEVENT
BEGIN:VTIMEZONE
TZID:Europe/Paris
X-LIC-LOCATION:Europe/Paris
BEGIN:STANDARD
DTSTART:20241027T020000
TZOFFSETFROM:+0200
TZOFFSETTO:+0100
TZNAME:CET
END:STANDARD
END:VTIMEZONE
END:VCALENDAR