BEGIN:VCALENDAR
VERSION:2.0
PRODID:-//wp-events-plugin.com//7.2.3.1//EN
BEGIN:VEVENT
UID:183@16ruedeplaisance.org
DTSTART;TZID=Europe/Paris;VALUE=DATE:20190418
DTEND;TZID=Europe/Paris;VALUE=DATE:20190421
DTSTAMP:20190108T104211Z
URL:https://www.16ruedeplaisance.org/evenements/camping-interdit-3/
SUMMARY:Camping Interdit
DESCRIPTION:
ATTACH;FMTTYPE=image/jpeg:https://www.16ruedeplaisance.org/wp-content/uplo
 ads/2018/06/©Elodie-Guignard-Camping-Interdit-151.jpg
CATEGORIES:Benoit Sicat
LOCATION:Festival 2 Turven Hoog\, Weteringweg\, Almere\, Pays-Bas
GEO:52.3565888;5.265953800000034
X-APPLE-STRUCTURED-LOCATION;VALUE=URI;X-ADDRESS=Weteringweg\, Almere\, Pays
 -Bas;X-APPLE-RADIUS=100;X-TITLE=Festival 2 Turven Hoog:geo:52.3565888,5.26
 5953800000034
END:VEVENT
BEGIN:VTIMEZONE
TZID:Europe/Paris
X-LIC-LOCATION:Europe/Paris
BEGIN:DAYLIGHT
DTSTART:20190331T030000
TZOFFSETFROM:+0100
TZOFFSETTO:+0200
TZNAME:CEST
END:DAYLIGHT
END:VTIMEZONE
END:VCALENDAR