BEGIN:VCALENDAR
VERSION:2.0
PRODID:-//wp-events-plugin.com//7.2.3.1//EN
BEGIN:VEVENT
UID:345@16ruedeplaisance.org
DTSTART;TZID=Europe/Paris;VALUE=DATE:20230929
DTEND;TZID=Europe/Paris;VALUE=DATE:20231006
DTSTAMP:20231005T160606Z
URL:https://www.16ruedeplaisance.org/evenements/chaque-fois-4/
SUMMARY:Gwenaëlle Rébillard /// Chaque Fois - exposition
DESCRIPTION:Exposition Chaque Fois - médiathèque Luce Courville - Nantes\
 n\ndans le cadre de MIDIMINUITPOESIE #23
ATTACH;FMTTYPE=image/jpeg:https://www.16ruedeplaisance.org/wp-content/uplo
 ads/2018/04/DSC04170--scaled.jpg
CATEGORIES:Gwenaëlle Rebillard
LOCATION:MIDIMINUITPOESIE#23 / médiathèque Luce Courville\, 1 rue Eugène
  Thomas\, Nantes\, 44300\, France
GEO:47.261834;-1.57408
X-APPLE-STRUCTURED-LOCATION;VALUE=URI;X-ADDRESS=1 rue Eugène Thomas\, Nant
 es\, 44300\, France;X-APPLE-RADIUS=100;X-TITLE=MIDIMINUITPOESIE#23 / médi
 athèque Luce Courville:geo:47.261834,-1.57408
END:VEVENT
BEGIN:VTIMEZONE
TZID:Europe/Paris
X-LIC-LOCATION:Europe/Paris
BEGIN:DAYLIGHT
DTSTART:20230326T030000
TZOFFSETFROM:+0100
TZOFFSETTO:+0200
TZNAME:CEST
END:DAYLIGHT
END:VTIMEZONE
END:VCALENDAR