BEGIN:VCALENDAR
VERSION:2.0
PRODID:-//wp-events-plugin.com//7.2.3.1//EN
BEGIN:VEVENT
UID:347@16ruedeplaisance.org
DTSTART;TZID=Europe/Paris;VALUE=DATE:20231014
DTEND;TZID=Europe/Paris;VALUE=DATE:20231015
DTSTAMP:20231005T161417Z
URL:https://www.16ruedeplaisance.org/evenements/chaque-fois-exposition-2/
SUMMARY:Gwenaëlle Rébillard /// Chaque Fois - exposition
DESCRIPTION:samedi 14 octobre\n\nLe Lieu Unique - Nantes\n\ndans le cadre d
 e MIDIMINUITPOESIE#23 - Maison de la Poésie de Nantes.
ATTACH;FMTTYPE=image/jpeg:https://www.16ruedeplaisance.org/wp-content/uplo
 ads/2018/04/DSC_9706.jpg
CATEGORIES:Gwenaëlle Rebillard
LOCATION:MIDIMINUITPOESIE#23 / Le Lieu Unique\, Quai Ferdinand-Favre\, Nant
 es\, 44000\, France
GEO:47.213968;-1.543013
X-APPLE-STRUCTURED-LOCATION;VALUE=URI;X-ADDRESS=Quai Ferdinand-Favre\, Nant
 es\, 44000\, France;X-APPLE-RADIUS=100;X-TITLE=MIDIMINUITPOESIE#23 / Le Li
 eu Unique:geo:47.213968,-1.543013
END:VEVENT
BEGIN:VTIMEZONE
TZID:Europe/Paris
X-LIC-LOCATION:Europe/Paris
BEGIN:DAYLIGHT
DTSTART:20230326T030000
TZOFFSETFROM:+0100
TZOFFSETTO:+0200
TZNAME:CEST
END:DAYLIGHT
END:VTIMEZONE
END:VCALENDAR