BEGIN:VCALENDAR
VERSION:2.0
PRODID:-//wp-events-plugin.com//7.2.3.1//EN
BEGIN:VEVENT
UID:346@16ruedeplaisance.org
DTSTART;TZID=Europe/Paris;VALUE=DATE:20231006
DTEND;TZID=Europe/Paris;VALUE=DATE:20231013
DTSTAMP:20231005T160654Z
URL:https://www.16ruedeplaisance.org/evenements/chaque-fois-exposition/
SUMMARY:Gwenaëlle Rébillard /// Chaque Fois - exposition
DESCRIPTION:du 6 au 12 octobre 2023\n\nPassage Sainte Croix - Nantes.\n\nDa
 ns le cadre de MIDIMINUITPOESIE#23 - Maison de la Poésie - Nantes
ATTACH;FMTTYPE=image/jpeg:https://www.16ruedeplaisance.org/wp-content/uplo
 ads/2018/04/DSC_9707.jpg
CATEGORIES:Gwenaëlle Rebillard
LOCATION:MIDIMINUITPOESIE#23 / passage Sainte-Croix\, 9 rue de la bâclerie
 \, Nantes\, 44000\, France
GEO:47.215216;-1.553723
X-APPLE-STRUCTURED-LOCATION;VALUE=URI;X-ADDRESS=9 rue de la bâclerie\, Nan
 tes\, 44000\, France;X-APPLE-RADIUS=100;X-TITLE=MIDIMINUITPOESIE#23 / pass
 age Sainte-Croix:geo:47.215216,-1.553723
END:VEVENT
BEGIN:VTIMEZONE
TZID:Europe/Paris
X-LIC-LOCATION:Europe/Paris
BEGIN:DAYLIGHT
DTSTART:20230326T030000
TZOFFSETFROM:+0100
TZOFFSETTO:+0200
TZNAME:CEST
END:DAYLIGHT
END:VTIMEZONE
END:VCALENDAR