BEGIN:VCALENDAR
VERSION:2.0
PRODID:-//wp-events-plugin.com//7.2.3.1//EN
BEGIN:VEVENT
UID:119@16ruedeplaisance.org
DTSTART:20180624T170000Z
DTEND:20180624T180000Z
DTSTAMP:20180622T075728Z
URL:https://www.16ruedeplaisance.org/evenements/de-la-couleur-dun-jaune-ap
 pele-jaune-dor-lecture/
SUMMARY:De la couleur d'un jaune appelé jaune d'or - lecture
DESCRIPTION:"De la couleur d'un jaune appelé jaune d'or" \n\n\nUne lecture
  de quelques textes où il est question de formes\, d’images et de petit
 s bruits brefs. De corps\, d’espace et de surface colorée. D’amour un
  peu aussi.\n\n\n\n
ATTACH;FMTTYPE=image/jpeg:https://www.16ruedeplaisance.org/wp-content/uplo
 ads/2018/04/vignette-Or.jpg
CATEGORIES:Gwenaëlle Rebillard
LOCATION:Orangerie du Thabor\, Parc du Thabor\, Rennes\, France
GEO:48.1143843;-1.6694938000000548
X-APPLE-STRUCTURED-LOCATION;VALUE=URI;X-ADDRESS=Parc du Thabor\, Rennes\, F
 rance;X-APPLE-RADIUS=100;X-TITLE=Orangerie du Thabor:geo:48.1143843,-1.669
 4938000000548
END:VEVENT
END:VCALENDAR