BEGIN:VCALENDAR
VERSION:2.0
PRODID:-//wp-events-plugin.com//7.2.3.1//EN
BEGIN:VEVENT
UID:294@16ruedeplaisance.org
DTSTART;TZID=Europe/Paris;VALUE=DATE:20220910
DTEND;TZID=Europe/Paris;VALUE=DATE:20220912
DTSTAMP:20220728T154454Z
URL:https://www.16ruedeplaisance.org/evenements/des-chateaux-en-espagne-en
 -chantier-portes-ouvertes/
SUMMARY:Des châteaux en Espagne en Chantier / Portes ouvertes
DESCRIPTION:
ATTACH;FMTTYPE=image/jpeg:https://www.16ruedeplaisance.org/wp-content/uplo
 ads/2022/01/maison-rue-de-nantes-scaled.jpg
CATEGORIES:Les frères Pablof
LOCATION:ATELIER 16 RUE DE PLAISANCE\, La Maison neuve\, Rennes\, 35000\, F
 rance
GEO:48.137716;-1.724676
X-APPLE-STRUCTURED-LOCATION;VALUE=URI;X-ADDRESS=La Maison neuve\, Rennes\, 
 35000\, France;X-APPLE-RADIUS=100;X-TITLE=ATELIER 16 RUE DE PLAISANCE:geo:
 48.137716,-1.724676
END:VEVENT
BEGIN:VTIMEZONE
TZID:Europe/Paris
X-LIC-LOCATION:Europe/Paris
BEGIN:DAYLIGHT
DTSTART:20220327T030000
TZOFFSETFROM:+0100
TZOFFSETTO:+0200
TZNAME:CEST
END:DAYLIGHT
END:VTIMEZONE
END:VCALENDAR