BEGIN:VCALENDAR
VERSION:2.0
PRODID:-//wp-events-plugin.com//7.2.3.1//EN
BEGIN:VEVENT
UID:353@16ruedeplaisance.org
DTSTART;TZID=Europe/Paris;VALUE=DATE:20250122
DTEND;TZID=Europe/Paris;VALUE=DATE:20250123
DTSTAMP:20250120T093915Z
URL:https://www.16ruedeplaisance.org/evenements/des-chateaux-en-espagne-la
 utre-lieue/
SUMMARY:Pablof - Des châteaux en Espagne - MJC Grand Cordel - Archipel Hab
 itat
DESCRIPTION:Sur la terrasse de la tour du quartier de Maurepas 17H30\n&nbsp
 \;\n\n&nbsp\;
ATTACH;FMTTYPE=image/jpeg:https://www.16ruedeplaisance.org/wp-content/uplo
 ads/2024/10/freres_Pablof_Jeanne_Paturel_Basse_Def13-scaled.jpg
CATEGORIES:Les frères Pablof
LOCATION:MJC DU GRAND CORDEL\, 18 rue des Plantes\, Rennes\, France
GEO:48.1220478;-1.648147300000005
X-APPLE-STRUCTURED-LOCATION;VALUE=URI;X-ADDRESS=18 rue des Plantes\, Rennes
 \, France;X-APPLE-RADIUS=100;X-TITLE=MJC DU GRAND CORDEL:geo:48.1220478,-1
 .648147300000005
END:VEVENT
BEGIN:VTIMEZONE
TZID:Europe/Paris
X-LIC-LOCATION:Europe/Paris
BEGIN:STANDARD
DTSTART:20241027T020000
TZOFFSETFROM:+0200
TZOFFSETTO:+0100
TZNAME:CET
END:STANDARD
END:VTIMEZONE
END:VCALENDAR