BEGIN:VCALENDAR
VERSION:2.0
PRODID:-//wp-events-plugin.com//7.2.3.1//EN
BEGIN:VEVENT
UID:324@16ruedeplaisance.org
DTSTART;TZID=Europe/Paris;VALUE=DATE:20230406
DTEND;TZID=Europe/Paris;VALUE=DATE:20230407
DTSTAMP:20230325T083004Z
URL:https://www.16ruedeplaisance.org/evenements/des-chateaux-en-espagne-le
 s-rim-le-fourneau/
SUMMARY:Des châteaux en Espagne / Les RIM / Le Fourneau
DESCRIPTION:Nous jouons Des châteaux en Espagne le 6 Avril de 18h à 23h\n
 Tout savoir sur les rassemblements Inter-monde les RIM\nDocument à télé
 charger\n\n\n&nbsp\;
ATTACH;FMTTYPE=image/jpeg:https://www.16ruedeplaisance.org/wp-content/uplo
 ads/2022/06/Chateau-en-Espagne-Ruban-scaled.jpg
CATEGORIES:Les frères Pablof
LOCATION:Le Fourneau\, 11 Quai de la Douane\, Brest\, 29200\, Bretagne\, Fr
 ance
GEO:48.381967;-4.487373
X-APPLE-STRUCTURED-LOCATION;VALUE=URI;X-ADDRESS=11 Quai de la Douane\, Bres
 t\, 29200\, Bretagne\, France;X-APPLE-RADIUS=100;X-TITLE=Le Fourneau:geo:4
 8.381967,-4.487373
END:VEVENT
BEGIN:VTIMEZONE
TZID:Europe/Paris
X-LIC-LOCATION:Europe/Paris
BEGIN:DAYLIGHT
DTSTART:20230326T030000
TZOFFSETFROM:+0100
TZOFFSETTO:+0200
TZNAME:CEST
END:DAYLIGHT
END:VTIMEZONE
END:VCALENDAR