BEGIN:VCALENDAR
VERSION:2.0
PRODID:-//wp-events-plugin.com//7.2.3.1//EN
BEGIN:VEVENT
UID:344@16ruedeplaisance.org
DTSTART;TZID=Europe/Paris;VALUE=DATE:20230916
DTEND;TZID=Europe/Paris;VALUE=DATE:20230921
DTSTAMP:20230829T155059Z
URL:https://www.16ruedeplaisance.org/evenements/des-chateaux-en-espagne-pa
 nique-au-parc/
SUMMARY:Des châteaux en Espagne Panique au parc
DESCRIPTION:Des châteaux en Espagne\n\nA Panique au Parc / Parc Pierquin C
 harleville Méziere\nInformations et reservations\nle 16 Septembre\n16h15 
 /18H15 /20H15\nLe 18 Septembre\n16h/18h15/19h30\nLe 19 Septembre\n13h30/15
 h30/18h15\nLe 20 septembre\n14h15/15h45/18h30\n\n\n\n&nbsp\;
ATTACH;FMTTYPE=image/jpeg:https://www.16ruedeplaisance.org/wp-content/uplo
 ads/2022/06/Chateau-en-Espagne-Ruban-scaled.jpg
CATEGORIES:Les frères Pablof
LOCATION:Panique au Parc / Charleville Mezière\, Parc Pierquin\, Charlevil
 le Mezière\, 08000\, France
GEO:49.774282;4.712657
X-APPLE-STRUCTURED-LOCATION;VALUE=URI;X-ADDRESS=Parc Pierquin\, Charleville
  Mezière\, 08000\, France;X-APPLE-RADIUS=100;X-TITLE=Panique au Parc / Ch
 arleville Mezière:geo:49.774282,4.712657
END:VEVENT
BEGIN:VTIMEZONE
TZID:Europe/Paris
X-LIC-LOCATION:Europe/Paris
BEGIN:DAYLIGHT
DTSTART:20230326T030000
TZOFFSETFROM:+0100
TZOFFSETTO:+0200
TZNAME:CEST
END:DAYLIGHT
END:VTIMEZONE
END:VCALENDAR