BEGIN:VCALENDAR
VERSION:2.0
PRODID:-//wp-events-plugin.com//7.2.3.1//EN
BEGIN:VEVENT
UID:323@16ruedeplaisance.org
DTSTART;TZID=Europe/Paris;VALUE=DATE:20230320
DTEND;TZID=Europe/Paris;VALUE=DATE:20230322
DTSTAMP:20230210T092850Z
URL:https://www.16ruedeplaisance.org/evenements/des-chateaux-en-espagne-re
 ncontre-professionnelle-festival-melliscene/
SUMMARY:Des châteaux en Espagne / Journée professionnelle / festival Meli
 scènes
DESCRIPTION:Nous jouons Des châteaux en Espagne le 20 mars à 19h et 22H e
 t le 21 mars à 11h\, 17h\, 18h15\, 22h30\n\nTout savoir sur le festival M
 eliscènes\nTout savoir sur la journée professionnelle art de la marionne
 tte avec SVEB \n&nbsp\;
ATTACH;FMTTYPE=image/jpeg:https://www.16ruedeplaisance.org/wp-content/uplo
 ads/2022/06/Chateau-en-Espagne-Ruban-scaled.jpg
CATEGORIES:Les frères Pablof
LOCATION:Centre culturel Athena\, place du golhorez\, Auray\, 56\, France
GEO:47.66649100000001;-2.9837669999999434
X-APPLE-STRUCTURED-LOCATION;VALUE=URI;X-ADDRESS=place du golhorez\, Auray\,
  56\, France;X-APPLE-RADIUS=100;X-TITLE=Centre culturel Athena:geo:47.6664
 9100000001,-2.9837669999999434
END:VEVENT
BEGIN:VTIMEZONE
TZID:Europe/Paris
X-LIC-LOCATION:Europe/Paris
BEGIN:STANDARD
DTSTART:20221030T020000
TZOFFSETFROM:+0200
TZOFFSETTO:+0100
TZNAME:CET
END:STANDARD
END:VTIMEZONE
END:VCALENDAR