BEGIN:VCALENDAR
VERSION:2.0
PRODID:-//wp-events-plugin.com//7.2.3.1//EN
BEGIN:VEVENT
UID:341@16ruedeplaisance.org
DTSTART;TZID=Europe/Paris;VALUE=DATE:20230523
DTEND;TZID=Europe/Paris;VALUE=DATE:20230527
DTSTAMP:20230515T153531Z
URL:https://www.16ruedeplaisance.org/evenements/des-chateaux-en-espagne-sa
 int-nazaire/
SUMMARY:Des châteaux en Espagne Saint Nazaire
DESCRIPTION: Des châteaux en Espagne à Table\n23/05 Lycée Expérimental
 \nscolaires 14h et 15h\ntout public 18h et 19h\,  (30 personnes divisées
  en 2 groupe puis discussion en commun avec plat partagé)\n- 24/05 Lycée
  Pro\nscolaires 10h et 11h\n- 24/05\ntout public dans l'atelier d'Isabelle
  Legrand 19h\n- 26/05 Foyer Logement CCAS Les jardins\n15h et 16h\n\n\n\n\
 n&nbsp\;
ATTACH;FMTTYPE=image/jpeg:https://www.16ruedeplaisance.org/wp-content/uplo
 ads/2022/06/Chateau-en-Espagne-Ruban-scaled.jpg
CATEGORIES:Les frères Pablof
LOCATION:NINA LA GAINE - A TABLE\,  15 rue Alphonse de Lamartine\, Saint Na
 zaire\, 44600\, France
GEO:47.278447;-2.220193
X-APPLE-STRUCTURED-LOCATION;VALUE=URI;X-ADDRESS= 15 rue Alphonse de Lamarti
 ne\, Saint Nazaire\, 44600\, France;X-APPLE-RADIUS=100;X-TITLE=NINA LA GAI
 NE - A TABLE:geo:47.278447,-2.220193
END:VEVENT
BEGIN:VTIMEZONE
TZID:Europe/Paris
X-LIC-LOCATION:Europe/Paris
BEGIN:DAYLIGHT
DTSTART:20230326T030000
TZOFFSETFROM:+0100
TZOFFSETTO:+0200
TZNAME:CEST
END:DAYLIGHT
END:VTIMEZONE
END:VCALENDAR