BEGIN:VCALENDAR
VERSION:2.0
PRODID:-//wp-events-plugin.com//7.2.3.1//EN
BEGIN:VEVENT
UID:58@16ruedeplaisance.org
DTSTART;VALUE=DATE:20170324
DTEND;VALUE=DATE:20170325
DTSTAMP:20180504T131734Z
URL:https://www.16ruedeplaisance.org/evenements/extime-5/
SUMMARY:eXtime
DESCRIPTION:
ATTACH;FMTTYPE=image/jpeg:https://www.16ruedeplaisance.org/wp-content/uplo
 ads/2018/02/Affiche-eXtime-petit3-e1529050957231.jpg
CATEGORIES:Les frères Pablof
LOCATION:Festival Mélliscene CC Athena\, Place du Gohlérez\, Auray\, 5640
 0\, France
GEO:47.6656381;-2.989502000000016
X-APPLE-STRUCTURED-LOCATION;VALUE=URI;X-ADDRESS=Place du Gohlérez\, Auray\
 , 56400\, France;X-APPLE-RADIUS=100;X-TITLE=Festival Mélliscene CC Athena
 :geo:47.6656381,-2.989502000000016
END:VEVENT
END:VCALENDAR