BEGIN:VCALENDAR
VERSION:2.0
PRODID:-//wp-events-plugin.com//7.2.3.1//EN
BEGIN:VEVENT
UID:366@16ruedeplaisance.org
DTSTART;TZID=Europe/Paris:20231007T140000
DTEND;TZID=Europe/Paris:20231007T170000
DTSTAMP:20231005T162913Z
URL:https://www.16ruedeplaisance.org/evenements/gwenaelle-rebillard-chaque
 -fois-atelier-decriture/
SUMMARY:Gwenaëlle Rébillard /// Chaque Fois - atelier d'écriture
DESCRIPTION:atelier d'écriture à propos de Chaque Fois.\n\npassage Sainte
 -Croix - Nantes\n\ndans le cadre de MIDIMINUITPOESIE #23 - Maison de la Po
 ésie - Nantes.\n\n&nbsp\;
ATTACH;FMTTYPE=image/jpeg:https://www.16ruedeplaisance.org/wp-content/uplo
 ads/2023/10/DSC_9681-scaled.jpg
CATEGORIES:Gwenaëlle Rebillard
LOCATION:MIDIMINUITPOESIE#23 / passage Sainte Croix - Nantes\, 9\, rue de l
 a Bâclerie \, NANTES\, 44000\, France
GEO:47.215216;-1.553723
X-APPLE-STRUCTURED-LOCATION;VALUE=URI;X-ADDRESS=9\, rue de la Bâclerie \, 
 NANTES\, 44000\, France;X-APPLE-RADIUS=100;X-TITLE=MIDIMINUITPOESIE#23 / p
 assage Sainte Croix - Nantes:geo:47.215216,-1.553723
END:VEVENT
BEGIN:VTIMEZONE
TZID:Europe/Paris
X-LIC-LOCATION:Europe/Paris
BEGIN:DAYLIGHT
DTSTART:20230326T030000
TZOFFSETFROM:+0100
TZOFFSETTO:+0200
TZNAME:CEST
END:DAYLIGHT
END:VTIMEZONE
END:VCALENDAR