BEGIN:VCALENDAR
VERSION:2.0
PRODID:-//wp-events-plugin.com//7.2.3.1//EN
BEGIN:VEVENT
UID:382@16ruedeplaisance.org
DTSTART;TZID=Europe/Paris;VALUE=DATE:20240305
DTEND;TZID=Europe/Paris;VALUE=DATE:20240307
DTSTAMP:20240201T105056Z
URL:https://www.16ruedeplaisance.org/evenements/gwenaelle-rebillard-partit
 ion-textuelle/
SUMMARY:Gwenaëlle Rébillard /// Partition Textuelle - Workshop
DESCRIPTION:Workshop - classe préparatoire.\n\nEcole des Beaux-Arts Nantes
  Saint Nazaire.
ATTACH;FMTTYPE=image/jpeg:https://www.16ruedeplaisance.org/wp-content/uplo
 ads/2024/02/DSC03076-scaled.jpg
CATEGORIES:Gwenaëlle Rebillard
LOCATION:Ecole des Beaux-Arts Nantes Saint-Nazaire\, 4 rue des Frères Pér
 eire\, Saint-Nazaire\, 44600\, France
GEO:47.27732;-2.20419
X-APPLE-STRUCTURED-LOCATION;VALUE=URI;X-ADDRESS=4 rue des Frères Péreire\
 , Saint-Nazaire\, 44600\, France;X-APPLE-RADIUS=100;X-TITLE=Ecole des Beau
 x-Arts Nantes Saint-Nazaire:geo:47.27732,-2.20419
END:VEVENT
BEGIN:VTIMEZONE
TZID:Europe/Paris
X-LIC-LOCATION:Europe/Paris
BEGIN:STANDARD
DTSTART:20231029T020000
TZOFFSETFROM:+0200
TZOFFSETTO:+0100
TZNAME:CET
END:STANDARD
END:VTIMEZONE
END:VCALENDAR