BEGIN:VCALENDAR
VERSION:2.0
PRODID:-//wp-events-plugin.com//7.2.3.1//EN
BEGIN:VEVENT
UID:184@16ruedeplaisance.org
DTSTART;TZID=Europe/Paris;VALUE=DATE:20190421
DTEND;TZID=Europe/Paris;VALUE=DATE:20190423
DTSTAMP:20190108T104258Z
URL:https://www.16ruedeplaisance.org/evenements/icila-3/
SUMMARY:Icilà
DESCRIPTION:
ATTACH;FMTTYPE=image/jpeg:https://www.16ruedeplaisance.org/wp-content/uplo
 ads/2018/07/icilà-02-e1530528493811.jpg
CATEGORIES:Benoit Sicat
LOCATION:Festival 2 Turven Hoog\, Hagestraat\, Haarlem\, France
GEO:52.3787288;4.640480400000001
X-APPLE-STRUCTURED-LOCATION;VALUE=URI;X-ADDRESS=Hagestraat\, Haarlem\, Fran
 ce;X-APPLE-RADIUS=100;X-TITLE=Festival 2 Turven Hoog:geo:52.3787288,4.6404
 80400000001
END:VEVENT
BEGIN:VTIMEZONE
TZID:Europe/Paris
X-LIC-LOCATION:Europe/Paris
BEGIN:DAYLIGHT
DTSTART:20190331T030000
TZOFFSETFROM:+0100
TZOFFSETTO:+0200
TZNAME:CEST
END:DAYLIGHT
END:VTIMEZONE
END:VCALENDAR