BEGIN:VCALENDAR
VERSION:2.0
PRODID:-//wp-events-plugin.com//7.2.3.1//EN
BEGIN:VEVENT
UID:231@16ruedeplaisance.org
DTSTART;TZID=Europe/Paris;VALUE=DATE:20200129
DTEND;TZID=Europe/Paris;VALUE=DATE:20200201
DTSTAMP:20200110T085818Z
URL:https://www.16ruedeplaisance.org/evenements/icila-4/
SUMMARY:Icilà
DESCRIPTION:Tournée en Suisse et Liechtenstein dans le cadre du FESTIVAL P
 RIMA.\n\nhttps://www.prima-festival.ch/
ATTACH;FMTTYPE=image/jpeg:https://www.16ruedeplaisance.org/wp-content/uplo
 ads/2017/10/icilà-01.jpg
CATEGORIES:Benoit Sicat
LOCATION:TAK Theater\, Reberastrasse 12\, Schaan\, 9494\, Liechtenstein
GEO:47.167388;9.511627
X-APPLE-STRUCTURED-LOCATION;VALUE=URI;X-ADDRESS=Reberastrasse 12\, Schaan\,
  9494\, Liechtenstein;X-APPLE-RADIUS=100;X-TITLE=TAK Theater:geo:47.167388
 ,9.511627
END:VEVENT
BEGIN:VTIMEZONE
TZID:Europe/Paris
X-LIC-LOCATION:Europe/Paris
BEGIN:STANDARD
DTSTART:20191027T020000
TZOFFSETFROM:+0200
TZOFFSETTO:+0100
TZNAME:CET
END:STANDARD
END:VTIMEZONE
END:VCALENDAR