BEGIN:VCALENDAR
VERSION:2.0
PRODID:-//wp-events-plugin.com//7.2.3.1//EN
BEGIN:VEVENT
UID:232@16ruedeplaisance.org
DTSTART;TZID=Europe/Paris;VALUE=DATE:20200201
DTEND;TZID=Europe/Paris;VALUE=DATE:20200202
DTSTAMP:20200110T085946Z
URL:https://www.16ruedeplaisance.org/evenements/icila-5/
SUMMARY:Icilà
DESCRIPTION:Tournée en Suisse et Liechtenstein dans le cadre du FESTIVAL P
 RIMA.\n\nhttps://www.prima-festival.ch/
ATTACH;FMTTYPE=image/jpeg:https://www.16ruedeplaisance.org/wp-content/uplo
 ads/2018/07/icilà-02-e1530528493811.jpg
CATEGORIES:Benoit Sicat
LOCATION:Zeughaus Kultur\, Gliserallee 91\, Brig\, 3902\, Suisse
GEO:46.313633;7.984046
X-APPLE-STRUCTURED-LOCATION;VALUE=URI;X-ADDRESS=Gliserallee 91\, Brig\, 390
 2\, Suisse;X-APPLE-RADIUS=100;X-TITLE=Zeughaus Kultur:geo:46.313633,7.9840
 46
END:VEVENT
BEGIN:VTIMEZONE
TZID:Europe/Paris
X-LIC-LOCATION:Europe/Paris
BEGIN:STANDARD
DTSTART:20191027T020000
TZOFFSETFROM:+0200
TZOFFSETTO:+0100
TZNAME:CET
END:STANDARD
END:VTIMEZONE
END:VCALENDAR