BEGIN:VCALENDAR
VERSION:2.0
PRODID:-//wp-events-plugin.com//7.2.3.1//EN
BEGIN:VEVENT
UID:233@16ruedeplaisance.org
DTSTART;TZID=Europe/Paris:20200202T110000
DTEND;TZID=Europe/Paris:20200202T110000
DTSTAMP:20200110T090044Z
URL:https://www.16ruedeplaisance.org/evenements/icila-6/
SUMMARY:Icilà
DESCRIPTION:Tournée dans le cadre du FESTIVAL PRIMA\n\nhttps://www.prima-f
 estival.ch/
ATTACH;FMTTYPE=image/jpeg:https://www.16ruedeplaisance.org/wp-content/uplo
 ads/2020/01/icilà-HélèneMartin03.jpg
CATEGORIES:Benoit Sicat
LOCATION:Sclachthaus Theater\, Rathausgasse 20\, Berne\, 3011\, Suisse
GEO:46.948658;7.450716
X-APPLE-STRUCTURED-LOCATION;VALUE=URI;X-ADDRESS=Rathausgasse 20\, Berne\, 3
 011\, Suisse;X-APPLE-RADIUS=100;X-TITLE=Sclachthaus Theater:geo:46.948658,
 7.450716
END:VEVENT
BEGIN:VTIMEZONE
TZID:Europe/Paris
X-LIC-LOCATION:Europe/Paris
BEGIN:STANDARD
DTSTART:20191027T020000
TZOFFSETFROM:+0200
TZOFFSETTO:+0100
TZNAME:CET
END:STANDARD
END:VTIMEZONE
END:VCALENDAR