BEGIN:VCALENDAR
VERSION:2.0
PRODID:-//wp-events-plugin.com//7.2.3.1//EN
BEGIN:VEVENT
UID:299@16ruedeplaisance.org
DTSTART;TZID=Europe/Paris:20221025T110000
DTEND;TZID=Europe/Paris:20221027T170000
DTSTAMP:20220826T082420Z
URL:https://www.16ruedeplaisance.org/evenements/ilnapasdenom-2/
SUMMARY:ILNAPASDENOM
DESCRIPTION:Dans le cadre du Festival MARMAILLE\, organisé par le Théâtr
 e Lillico
ATTACH;FMTTYPE=image/jpeg:https://www.16ruedeplaisance.org/wp-content/uplo
 ads/2022/08/VISUEL-IPN-scaled.jpg
CATEGORIES:Benoit Sicat
LOCATION:Maison de Quartier La Bellangerais\, 5 Rue du Morbihan\, Rennes\, 
 35700\, France
GEO:48.1355746;-1.6681826999999885
X-APPLE-STRUCTURED-LOCATION;VALUE=URI;X-ADDRESS=5 Rue du Morbihan\, Rennes\
 , 35700\, France;X-APPLE-RADIUS=100;X-TITLE=Maison de Quartier La Bellange
 rais:geo:48.1355746,-1.6681826999999885
END:VEVENT
BEGIN:VTIMEZONE
TZID:Europe/Paris
X-LIC-LOCATION:Europe/Paris
BEGIN:DAYLIGHT
DTSTART:20220327T030000
TZOFFSETFROM:+0100
TZOFFSETTO:+0200
TZNAME:CEST
END:DAYLIGHT
END:VTIMEZONE
END:VCALENDAR