BEGIN:VCALENDAR
VERSION:2.0
PRODID:-//wp-events-plugin.com//7.2.3.1//EN
BEGIN:VEVENT
UID:300@16ruedeplaisance.org
DTSTART;TZID=Europe/Paris:20221116T000000
DTEND;TZID=Europe/Paris:20221117T000000
DTSTAMP:20220826T082709Z
URL:https://www.16ruedeplaisance.org/evenements/ilnapasdenom-3/
SUMMARY:ILNAPASDENOM
DESCRIPTION:
ATTACH;FMTTYPE=image/jpeg:https://www.16ruedeplaisance.org/wp-content/uplo
 ads/2022/08/VISUEL-IPN-scaled.jpg
CATEGORIES:Benoit Sicat
LOCATION:Centre Culturel Houdremont\, 11 avenue du Général Leclerc\, La C
 ourneuve\, France
GEO:48.926779;2.377673
X-APPLE-STRUCTURED-LOCATION;VALUE=URI;X-ADDRESS=11 avenue du Général Lecl
 erc\, La Courneuve\, France;X-APPLE-RADIUS=100;X-TITLE=Centre Culturel Hou
 dremont:geo:48.926779,2.377673
END:VEVENT
BEGIN:VTIMEZONE
TZID:Europe/Paris
X-LIC-LOCATION:Europe/Paris
BEGIN:STANDARD
DTSTART:20221030T020000
TZOFFSETFROM:+0200
TZOFFSETTO:+0100
TZNAME:CET
END:STANDARD
END:VTIMEZONE
END:VCALENDAR