BEGIN:VCALENDAR
VERSION:2.0
PRODID:-//wp-events-plugin.com//7.2.3.1//EN
BEGIN:VEVENT
UID:320@16ruedeplaisance.org
DTSTART;TZID=Europe/Paris:20230207T100000
DTEND;TZID=Europe/Paris:20230211T150000
DTSTAMP:20221103T103736Z
URL:https://www.16ruedeplaisance.org/evenements/ilnapasdenom-7/
SUMMARY:ILNAPASDENOM
DESCRIPTION:
ATTACH;FMTTYPE=image/jpeg:https://www.16ruedeplaisance.org/wp-content/uplo
 ads/2022/11/ILNAPASDENOM_©Nicolas-Joubard-3836-copie.jpg
CATEGORIES:Benoit Sicat
LOCATION:Salle des fêtes\, 2 rue des Anciennes Mairies\, Nanterre\, 92000\
 , France
GEO:48.890603;2.197696
X-APPLE-STRUCTURED-LOCATION;VALUE=URI;X-ADDRESS=2 rue des Anciennes Mairies
 \, Nanterre\, 92000\, France;X-APPLE-RADIUS=100;X-TITLE=Salle des fêtes:g
 eo:48.890603,2.197696
END:VEVENT
BEGIN:VTIMEZONE
TZID:Europe/Paris
X-LIC-LOCATION:Europe/Paris
BEGIN:STANDARD
DTSTART:20221030T020000
TZOFFSETFROM:+0200
TZOFFSETTO:+0100
TZNAME:CET
END:STANDARD
END:VTIMEZONE
END:VCALENDAR