BEGIN:VCALENDAR
VERSION:2.0
PRODID:-//wp-events-plugin.com//7.2.3.1//EN
BEGIN:VEVENT
UID:319@16ruedeplaisance.org
DTSTART;TZID=Europe/Paris:20230129T050100
DTEND;TZID=Europe/Paris:20230130T050100
DTSTAMP:20221103T103134Z
URL:https://www.16ruedeplaisance.org/evenements/ilnapasdenom-festival-momi
 x/
SUMMARY:ILNAPASDENOM festival MOMIX
DESCRIPTION:
ATTACH;FMTTYPE=image/jpeg:https://www.16ruedeplaisance.org/wp-content/uplo
 ads/2022/11/ILNAPASDENOM_©Nicolas-Joubard-3836-copie.jpg
CATEGORIES:Benoit Sicat
LOCATION:Centre Culturel La Passerelle\, Au Trèfle\, allée du Chemin Vert
 \, Rixheim\, 68170\, France
GEO:47.750104;7.407835
X-APPLE-STRUCTURED-LOCATION;VALUE=URI;X-ADDRESS=Au Trèfle\, allée du Chem
 in Vert\, Rixheim\, 68170\, France;X-APPLE-RADIUS=100;X-TITLE=Centre Cultu
 rel La Passerelle:geo:47.750104,7.407835
END:VEVENT
BEGIN:VTIMEZONE
TZID:Europe/Paris
X-LIC-LOCATION:Europe/Paris
BEGIN:STANDARD
DTSTART:20221030T020000
TZOFFSETFROM:+0200
TZOFFSETTO:+0100
TZNAME:CET
END:STANDARD
END:VTIMEZONE
END:VCALENDAR