BEGIN:VCALENDAR
VERSION:2.0
PRODID:-//wp-events-plugin.com//7.2.3.1//EN
BEGIN:VEVENT
UID:298@16ruedeplaisance.org
DTSTART;TZID=Europe/Paris;VALUE=DATE:20221021
DTEND;TZID=Europe/Paris;VALUE=DATE:20221023
DTSTAMP:20220826T081351Z
URL:https://www.16ruedeplaisance.org/evenements/ilnapasdenom/
SUMMARY:ILNAPASDENOM
DESCRIPTION:Dans le cadre du festival MARMAILLE
ATTACH;FMTTYPE=image/jpeg:https://www.16ruedeplaisance.org/wp-content/uplo
 ads/2022/08/VISUEL-IPN-scaled.jpg
CATEGORIES:Benoit Sicat
LOCATION:Espace Bel Air\, rue des Rochers\, Saint-Aubin du Cormier\, France
GEO:48.255893;-1.38898
X-APPLE-STRUCTURED-LOCATION;VALUE=URI;X-ADDRESS=rue des Rochers\, Saint-Aub
 in du Cormier\, France;X-APPLE-RADIUS=100;X-TITLE=Espace Bel Air:geo:48.25
 5893,-1.38898
END:VEVENT
BEGIN:VTIMEZONE
TZID:Europe/Paris
X-LIC-LOCATION:Europe/Paris
BEGIN:DAYLIGHT
DTSTART:20220327T030000
TZOFFSETFROM:+0100
TZOFFSETTO:+0200
TZNAME:CEST
END:DAYLIGHT
END:VTIMEZONE
END:VCALENDAR