BEGIN:VCALENDAR
VERSION:2.0
PRODID:-//wp-events-plugin.com//7.2.3.1//EN
BEGIN:VEVENT
UID:280@16ruedeplaisance.org
DTSTART;TZID=Europe/Paris;VALUE=DATE:20220325
DTEND;TZID=Europe/Paris;VALUE=DATE:20220326
DTSTAMP:20220307T151609Z
URL:https://www.16ruedeplaisance.org/evenements/le-grand-saut-10/
SUMMARY:Le Grand Saut
DESCRIPTION:Nous jouerons à 14h et 20h30 réservation ici\n\nFestival Quar
 tier en scène
ATTACH;FMTTYPE=image/jpeg:https://www.16ruedeplaisance.org/wp-content/uplo
 ads/2021/03/Stephane-Yvette-LGS-scaled.jpg
CATEGORIES:Les frères Pablof
LOCATION:Théâtre du cercle\, 30 bis rue de Paris\, Rennes cedex 7\, 35704
  \, France
GEO:48.112365;-1.66729
X-APPLE-STRUCTURED-LOCATION;VALUE=URI;X-ADDRESS=30 bis rue de Paris\, Renne
 s cedex 7\, 35704 \, France;X-APPLE-RADIUS=100;X-TITLE=Théâtre du cercle
 :geo:48.112365,-1.66729
END:VEVENT
BEGIN:VTIMEZONE
TZID:Europe/Paris
X-LIC-LOCATION:Europe/Paris
BEGIN:STANDARD
DTSTART:20211031T020000
TZOFFSETFROM:+0200
TZOFFSETTO:+0100
TZNAME:CET
END:STANDARD
END:VTIMEZONE
END:VCALENDAR