BEGIN:VCALENDAR
VERSION:2.0
PRODID:-//wp-events-plugin.com//7.2.3.1//EN
BEGIN:VEVENT
UID:216@16ruedeplaisance.org
DTSTART;TZID=Europe/Paris:20210702T203000
DTEND;TZID=Europe/Paris:20210702T203000
DTSTAMP:20210608T120353Z
URL:https://www.16ruedeplaisance.org/evenements/le-grand-saut-2/
SUMMARY:Le Grand Saut
DESCRIPTION:Enfin !!!!!!!!!!!!\n\nPour réserver : ici\n\n&nbsp\;\n\n&nbsp\
 ;
ATTACH;FMTTYPE=image/jpeg:https://www.16ruedeplaisance.org/wp-content/uplo
 ads/2021/03/Yvette-LGS-scaled.jpg
CATEGORIES:Les frères Pablof
LOCATION:Le Sabot d'Or\, Le Pont Hazard\, Saint Gilles\, France
GEO:48.15876230000001;-1.836373299999991
X-APPLE-STRUCTURED-LOCATION;VALUE=URI;X-ADDRESS=Le Pont Hazard\, Saint Gill
 es\, France;X-APPLE-RADIUS=100;X-TITLE=Le Sabot d'Or:geo:48.15876230000001
 ,-1.836373299999991
END:VEVENT
BEGIN:VTIMEZONE
TZID:Europe/Paris
X-LIC-LOCATION:Europe/Paris
BEGIN:DAYLIGHT
DTSTART:20210328T030000
TZOFFSETFROM:+0100
TZOFFSETTO:+0200
TZNAME:CEST
END:DAYLIGHT
END:VTIMEZONE
END:VCALENDAR