BEGIN:VCALENDAR
VERSION:2.0
PRODID:-//wp-events-plugin.com//7.2.3.1//EN
BEGIN:VEVENT
UID:245@16ruedeplaisance.org
DTSTART;TZID=Europe/Paris;VALUE=DATE:20220403
DTEND;TZID=Europe/Paris;VALUE=DATE:20220404
DTSTAMP:20220114T161705Z
URL:https://www.16ruedeplaisance.org/evenements/le-grand-saut-5/
SUMMARY:Le Grand Saut
DESCRIPTION:Nous jouerons à 15h et 18h réservation ici\n\n&nbsp\;
ATTACH;FMTTYPE=image/jpeg:https://www.16ruedeplaisance.org/wp-content/uplo
 ads/2021/03/Alice-LGS-scaled.jpg
CATEGORIES:Les frères Pablof
LOCATION:Festival Le Grand Dire - Theatre André Malraux\, Place jean-Paul 
 Sartre 102 avenue du Général de Gaulle\, Chevilly La Rue\, 94550 \, Fran
 ce
GEO:48.770361;2.35061
X-APPLE-STRUCTURED-LOCATION;VALUE=URI;X-ADDRESS=Place jean-Paul Sartre 102 
 avenue du Général de Gaulle\, Chevilly La Rue\, 94550 \, France;X-APPLE-
 RADIUS=100;X-TITLE=Festival Le Grand Dire - Theatre André Malraux:geo:48.
 770361,2.35061
END:VEVENT
BEGIN:VTIMEZONE
TZID:Europe/Paris
X-LIC-LOCATION:Europe/Paris
BEGIN:DAYLIGHT
DTSTART:20220327T030000
TZOFFSETFROM:+0100
TZOFFSETTO:+0200
TZNAME:CEST
END:DAYLIGHT
END:VTIMEZONE
END:VCALENDAR