BEGIN:VCALENDAR
VERSION:2.0
PRODID:-//wp-events-plugin.com//7.2.3.1//EN
BEGIN:VEVENT
UID:246@16ruedeplaisance.org
DTSTART;TZID=Europe/Paris:20201017T140000
DTEND;TZID=Europe/Paris:20201018T150000
DTSTAMP:20200924T144827Z
URL:https://www.16ruedeplaisance.org/evenements/le-grand-saut-6/
SUMMARY:Le Grand Saut
DESCRIPTION:
ATTACH;FMTTYPE=image/jpeg:https://www.16ruedeplaisance.org/wp-content/uplo
 ads/2019/05/Saut-filtrenet.jpg
CATEGORIES:Les frères Pablof
LOCATION:Theatre Jacques Duhamel\, 6 Rue de Verdun\, Vitré\, 35500\, Franc
 e
GEO:48.121393;-1.216126
X-APPLE-STRUCTURED-LOCATION;VALUE=URI;X-ADDRESS=6 Rue de Verdun\, Vitré\, 
 35500\, France;X-APPLE-RADIUS=100;X-TITLE=Theatre Jacques Duhamel:geo:48.1
 21393,-1.216126
END:VEVENT
BEGIN:VTIMEZONE
TZID:Europe/Paris
X-LIC-LOCATION:Europe/Paris
BEGIN:DAYLIGHT
DTSTART:20200329T030000
TZOFFSETFROM:+0100
TZOFFSETTO:+0200
TZNAME:CEST
END:DAYLIGHT
END:VTIMEZONE
END:VCALENDAR