BEGIN:VCALENDAR
VERSION:2.0
PRODID:-//wp-events-plugin.com//7.2.3.1//EN
BEGIN:VEVENT
UID:215@16ruedeplaisance.org
DTSTART;TZID=Europe/Paris:20210311T190000
DTEND;TZID=Europe/Paris:20210312T190000
DTSTAMP:20200519T091356Z
URL:https://www.16ruedeplaisance.org/evenements/le-grand-saut/
SUMMARY:Le Grand Saut
DESCRIPTION:
ATTACH;FMTTYPE=image/jpeg:https://www.16ruedeplaisance.org/wp-content/uplo
 ads/2019/05/Saut-filtrenet.jpg
CATEGORIES:Les frères Pablof
LOCATION:Théâtre Boris Vian\, 1bis Rue Jean Rostand\, Couëron\, France
GEO:47.2165494;-1.7303228000000672
X-APPLE-STRUCTURED-LOCATION;VALUE=URI;X-ADDRESS=1bis Rue Jean Rostand\, Cou
 ëron\, France;X-APPLE-RADIUS=100;X-TITLE=Théâtre Boris Vian:geo:47.2165
 494,-1.7303228000000672
END:VEVENT
BEGIN:VTIMEZONE
TZID:Europe/Paris
X-LIC-LOCATION:Europe/Paris
BEGIN:STANDARD
DTSTART:20201025T020000
TZOFFSETFROM:+0200
TZOFFSETTO:+0100
TZNAME:CET
END:STANDARD
END:VTIMEZONE
END:VCALENDAR