BEGIN:VCALENDAR
VERSION:2.0
PRODID:-//wp-events-plugin.com//7.2.3.1//EN
BEGIN:VEVENT
UID:26@16ruedeplaisance.org
DTSTART;TZID=Europe/Paris:20160726T150000
DTEND;TZID=Europe/Paris:20160726T163000
DTSTAMP:20180417T075239Z
URL:https://www.16ruedeplaisance.org/evenements/le-jardin-des-possibles-2/
SUMMARY:Le jardin des possibles
DESCRIPTION:Des carrés de gravier\, des cercles de galets\, des bois flott
 és\, des pétales séchés... Un jardin insolite tout éclairé de lumiè
 re pour mieux dessiner et jouer avec les éléments naturels. Chaque visit
 eur est invité à suivre le jardinier\, déplacer les éléments\, les é
 taler\, bâtir à mains nues\, détruire\, reconstruire ou simplement touc
 her pour découvrir une sensation. Vaste terrain de jeu\, cette forme part
 iculière de spectacle qu’est Le Jardin du possible s’adresse à la pe
 tite enfance pour un éveil au toucher et à l’image.\n\nBenoît Sicat e
 st plasticien-jardinier. Qu’il mette en scène des films\, des spectacle
 s\, ou des oeuvres plastiques\, chaque fois son inspiration lui vient du p
 aysage. Il se joue des frontières entre création artistique et culture d
 e la terre comme pour rendre sensible le jardin-monde dans ses variations 
 infinies.
ATTACH;FMTTYPE=image/jpeg:https://www.16ruedeplaisance.org/wp-content/uplo
 ads/2018/04/le-jardin-du-possible-dominique-verite.jpg
CATEGORIES:Benoit Sicat
LOCATION:Salle des fêtes\, Rue De Kerilis\, Névez\, 29920\, France
GEO:47.819722;-3.7939790000000357
X-APPLE-STRUCTURED-LOCATION;VALUE=URI;X-ADDRESS=Rue De Kerilis\, Névez\, 2
 9920\, France;X-APPLE-RADIUS=100;X-TITLE=Salle des fêtes:geo:47.819722,-3
 .7939790000000357
END:VEVENT
BEGIN:VTIMEZONE
TZID:Europe/Paris
X-LIC-LOCATION:Europe/Paris
BEGIN:DAYLIGHT
DTSTART:20160327T030000
TZOFFSETFROM:+0100
TZOFFSETTO:+0200
TZNAME:CEST
END:DAYLIGHT
END:VTIMEZONE
END:VCALENDAR