BEGIN:VCALENDAR
VERSION:2.0
PRODID:-//wp-events-plugin.com//7.2.3.1//EN
BEGIN:VEVENT
UID:25@16ruedeplaisance.org
DTSTART;TZID=Europe/Paris;VALUE=DATE:20170114
DTEND;TZID=Europe/Paris;VALUE=DATE:20170118
DTSTAMP:20180417T072909Z
URL:https://www.16ruedeplaisance.org/evenements/le-jardin-des-possibles/
SUMMARY:Le jardin des possibles
DESCRIPTION:Des carrés de gravier\, des cercles de galets\, des bois flott
 és\, des pétales séchés... Un jardin insolite tout éclairé de lumiè
 re pour mieux dessiner et jouer avec les éléments naturels. Chaque visit
 eur est invité à suivre le jardinier\, déplacer les éléments\, les é
 taler\, bâtir à mains nues\, détruire\, reconstruire ou simplement touc
 her pour découvrir une sensation. Vaste terrain de jeu\, cette forme part
 iculière de spectacle qu’est Le Jardin du possible s’adresse à la pe
 tite enfance pour un éveil au toucher et à l’image.\n\nBenoît Sicat e
 st plasticien-jardinier. Qu’il mette en scène des films\, des spectacle
 s\, ou des oeuvres plastiques\, chaque fois son inspiration lui vient du p
 aysage. Il se joue des frontières entre création artistique et culture d
 e la terre comme pour rendre sensible le jardin-monde dans ses variations 
 infinies.
ATTACH;FMTTYPE=image/jpeg:https://www.16ruedeplaisance.org/wp-content/uplo
 ads/2018/04/le-jardin-du-possible-dominique-verite.jpg
CATEGORIES:Benoit Sicat
LOCATION:Théâtre MASSALIA\, 41 Rue Jobin\, Marseille\, 13003\, France
GEO:43.311415;5.3903150999999525
X-APPLE-STRUCTURED-LOCATION;VALUE=URI;X-ADDRESS=41 Rue Jobin\, Marseille\, 
 13003\, France;X-APPLE-RADIUS=100;X-TITLE=Théâtre MASSALIA:geo:43.311415
 ,5.3903150999999525
END:VEVENT
BEGIN:VTIMEZONE
TZID:Europe/Paris
X-LIC-LOCATION:Europe/Paris
BEGIN:STANDARD
DTSTART:20161030T020000
TZOFFSETFROM:+0200
TZOFFSETTO:+0100
TZNAME:CET
END:STANDARD
END:VTIMEZONE
END:VCALENDAR