BEGIN:VCALENDAR
VERSION:2.0
PRODID:-//wp-events-plugin.com//7.2.3.1//EN
BEGIN:VEVENT
UID:133@16ruedeplaisance.org
DTSTART;TZID=Europe/Paris;VALUE=DATE:20150325
DTEND;TZID=Europe/Paris;VALUE=DATE:20150326
DTSTAMP:20180723T133149Z
URL:https://www.16ruedeplaisance.org/evenements/le-jardin-du-possible-11/
SUMMARY:Le Jardin du possible
DESCRIPTION:
ATTACH;FMTTYPE=image/jpeg:https://www.16ruedeplaisance.org/wp-content/uplo
 ads/2018/04/le-jardin-du-possible-dominique-verite.jpg
CATEGORIES:Benoit Sicat
LOCATION:Centre culturel Bellegarde\, 17 Rue Bellegarde\, Toulouse\, France
GEO:43.6083169;1.4447353000000476
X-APPLE-STRUCTURED-LOCATION;VALUE=URI;X-ADDRESS=17 Rue Bellegarde\, Toulous
 e\, France;X-APPLE-RADIUS=100;X-TITLE=Centre culturel Bellegarde:geo:43.60
 83169,1.4447353000000476
END:VEVENT
BEGIN:VTIMEZONE
TZID:Europe/Paris
X-LIC-LOCATION:Europe/Paris
BEGIN:STANDARD
DTSTART:20141026T020000
TZOFFSETFROM:+0200
TZOFFSETTO:+0100
TZNAME:CET
END:STANDARD
END:VTIMEZONE
END:VCALENDAR