BEGIN:VCALENDAR
VERSION:2.0
PRODID:-//wp-events-plugin.com//7.2.3.1//EN
BEGIN:VEVENT
UID:135@16ruedeplaisance.org
DTSTART;TZID=Europe/Paris;VALUE=DATE:20140408
DTEND;TZID=Europe/Paris;VALUE=DATE:20140412
DTSTAMP:20180723T133414Z
URL:https://www.16ruedeplaisance.org/evenements/le-jardin-du-possible-13/
SUMMARY:Le Jardin du possible
DESCRIPTION:
ATTACH;FMTTYPE=image/jpeg:https://www.16ruedeplaisance.org/wp-content/uplo
 ads/2018/04/le-jardin-du-possible-dominique-verite.jpg
CATEGORIES:Benoit Sicat
LOCATION:Espace Sarah Bernard\, 82 Boulevard Paul Vaillant Couturier\, Gous
 sainville\, 95000\, France
GEO:49.03224240000001;2.472013899999979
X-APPLE-STRUCTURED-LOCATION;VALUE=URI;X-ADDRESS=82 Boulevard Paul Vaillant 
 Couturier\, Goussainville\, 95000\, France;X-APPLE-RADIUS=100;X-TITLE=Espa
 ce Sarah Bernard:geo:49.03224240000001,2.472013899999979
END:VEVENT
BEGIN:VTIMEZONE
TZID:Europe/Paris
X-LIC-LOCATION:Europe/Paris
BEGIN:DAYLIGHT
DTSTART:20140330T030000
TZOFFSETFROM:+0100
TZOFFSETTO:+0200
TZNAME:CEST
END:DAYLIGHT
END:VTIMEZONE
END:VCALENDAR