BEGIN:VCALENDAR
VERSION:2.0
PRODID:-//wp-events-plugin.com//7.2.3.1//EN
BEGIN:VEVENT
UID:136@16ruedeplaisance.org
DTSTART;TZID=Europe/Paris;VALUE=DATE:20140512
DTEND;TZID=Europe/Paris;VALUE=DATE:20140517
DTSTAMP:20180723T133725Z
URL:https://www.16ruedeplaisance.org/evenements/le-jardin-du-possible-14/
SUMMARY:Le Jardin du possible
DESCRIPTION:Dans le cadre de la programmation de MA - Scène Nationale du P
 ays de Montbéliard
ATTACH;FMTTYPE=image/jpeg:https://www.16ruedeplaisance.org/wp-content/uplo
 ads/2018/04/le-jardin-du-possible-dominique-verite.jpg
CATEGORIES:Benoit Sicat
LOCATION:L'Arche - Scène jeunes publics du Doubs\, Place des Fêtes\, Beth
 oncourt\, France
GEO:47.5306764;6.794925899999953
X-APPLE-STRUCTURED-LOCATION;VALUE=URI;X-ADDRESS=Place des Fêtes\, Bethonco
 urt\, France;X-APPLE-RADIUS=100;X-TITLE=L'Arche - Scène jeunes publics du
  Doubs:geo:47.5306764,6.794925899999953
END:VEVENT
BEGIN:VTIMEZONE
TZID:Europe/Paris
X-LIC-LOCATION:Europe/Paris
BEGIN:DAYLIGHT
DTSTART:20140330T030000
TZOFFSETFROM:+0100
TZOFFSETTO:+0200
TZNAME:CEST
END:DAYLIGHT
END:VTIMEZONE
END:VCALENDAR